BEGIN:VCALENDAR
VERSION:2.0
PRODID:-//Tenmile Distillery: Wassaic, New York - ECPv6.15.20//NONSGML v1.0//EN
CALSCALE:GREGORIAN
METHOD:PUBLISH
X-ORIGINAL-URL:https://tenmiledistillery.com
X-WR-CALDESC:Events for Tenmile Distillery: Wassaic, New York
REFRESH-INTERVAL;VALUE=DURATION:PT1H
X-Robots-Tag:noindex
X-PUBLISHED-TTL:PT1H
BEGIN:VTIMEZONE
TZID:America/New_York
BEGIN:DAYLIGHT
TZOFFSETFROM:-0500
TZOFFSETTO:-0400
TZNAME:EDT
DTSTART:20230312T070000
END:DAYLIGHT
BEGIN:STANDARD
TZOFFSETFROM:-0400
TZOFFSETTO:-0500
TZNAME:EST
DTSTART:20231105T060000
END:STANDARD
BEGIN:DAYLIGHT
TZOFFSETFROM:-0500
TZOFFSETTO:-0400
TZNAME:EDT
DTSTART:20240310T070000
END:DAYLIGHT
BEGIN:STANDARD
TZOFFSETFROM:-0400
TZOFFSETTO:-0500
TZNAME:EST
DTSTART:20241103T060000
END:STANDARD
BEGIN:DAYLIGHT
TZOFFSETFROM:-0500
TZOFFSETTO:-0400
TZNAME:EDT
DTSTART:20250309T070000
END:DAYLIGHT
BEGIN:STANDARD
TZOFFSETFROM:-0400
TZOFFSETTO:-0500
TZNAME:EST
DTSTART:20251102T060000
END:STANDARD
END:VTIMEZONE
BEGIN:VEVENT
DTSTART;TZID=America/New_York:20240403T180000
DTEND;TZID=America/New_York:20240403T190000
DTSTAMP:20260419T170812
CREATED:20240319T145430Z
LAST-MODIFIED:20240319T195730Z
UID:10000064-1712167200-1712170800@tenmiledistillery.com
SUMMARY:Elixirs of Excellence: An Evening with Tenmile Distillery
DESCRIPTION:Embark on an adventure where handcrafted potions and the art of distillation collide. It’s not just a tasting; it’s Tenmile’s tour de force! \n\n\n\n\n\n\n\n\nWestchester Wine Warehouse & Tenmile Distillery cordially summon you to an evening brimming with spirit and splendor! Dive into the artisanal abyss with Tenmile Distillery. 🎩💫 \nShane Fraser\, the maestro of mash and wizard of whisky\, will lead you through a mesmerizing journey of four handcrafted potions. Prepare to have your taste buds enchanted and your spirit knowledge expanded. 🧙‍♂️🍸 \n📅 This exclusive event will take place on Wednesday\, April 3rd\, from 6pm – 7pm. A twilight hour transformed into an unforgettable voyage through the valleys of vodka\, gin\, and whisky. \nBuy your ticket(s) here! Tickets are $39 and ticket purchase price can be credited to bottle purchases that night at Westchester Wine Warehouse.
URL:https://tenmiledistillery.com/upcoming-event/elixirs-of-excellence-an-evening-with-tenmile-distillery/
LOCATION:Westchester Wine Warehouse\, 53 Tarrytown Road\, White Plains\, NY\, 10607\, United States
ATTACH;FMTTYPE=image/jpeg:https://tenmiledistillery.com/wp-content/uploads/2024/03/westchester-wine-warehouse-tasting-resized.jpg
END:VEVENT
END:VCALENDAR