BEGIN:VCALENDAR
VERSION:2.0
PRODID:-//Tenmile Distillery: Wassaic, New York - ECPv6.15.20//NONSGML v1.0//EN
CALSCALE:GREGORIAN
METHOD:PUBLISH
X-WR-CALNAME:Tenmile Distillery: Wassaic, New York
X-ORIGINAL-URL:https://tenmiledistillery.com
X-WR-CALDESC:Events for Tenmile Distillery: Wassaic, New York
REFRESH-INTERVAL;VALUE=DURATION:PT1H
X-Robots-Tag:noindex
X-PUBLISHED-TTL:PT1H
BEGIN:VTIMEZONE
TZID:America/New_York
BEGIN:DAYLIGHT
TZOFFSETFROM:-0500
TZOFFSETTO:-0400
TZNAME:EDT
DTSTART:20230312T070000
END:DAYLIGHT
BEGIN:STANDARD
TZOFFSETFROM:-0400
TZOFFSETTO:-0500
TZNAME:EST
DTSTART:20231105T060000
END:STANDARD
BEGIN:DAYLIGHT
TZOFFSETFROM:-0500
TZOFFSETTO:-0400
TZNAME:EDT
DTSTART:20240310T070000
END:DAYLIGHT
BEGIN:STANDARD
TZOFFSETFROM:-0400
TZOFFSETTO:-0500
TZNAME:EST
DTSTART:20241103T060000
END:STANDARD
BEGIN:DAYLIGHT
TZOFFSETFROM:-0500
TZOFFSETTO:-0400
TZNAME:EDT
DTSTART:20250309T070000
END:DAYLIGHT
BEGIN:STANDARD
TZOFFSETFROM:-0400
TZOFFSETTO:-0500
TZNAME:EST
DTSTART:20251102T060000
END:STANDARD
END:VTIMEZONE
BEGIN:VEVENT
DTSTART;VALUE=DATE:20240402
DTEND;VALUE=DATE:20240416
DTSTAMP:20260422T193625
CREATED:20240329T150924Z
LAST-MODIFIED:20240329T152051Z
UID:10000068-1712016000-1713225599@tenmiledistillery.com
SUMMARY:Time to Purchase your Whisky Allocation!
DESCRIPTION:Attention all Whisky List Members! Our whisky allocation emails will be sent out starting on Tuesday\, April 2nd. You will have until April 15th to place your order. \nWe have bottled a very small amount of each expression and orders will be fulfilled on a first-come\, first-served basis. Please place your order quickly to ensure you get some whisky! \nIf you do not receive your Whisky Allocation email\, please reach out to Cornelia at cornelia@tenmiledistillery.com ASAP.  \nWe have three offerings for our Whisky List members in this release: Founder’s Edition\, Port Cask and Double Matured. There will also be a Distillery Exclusive Oloroso Sherry Cask available to purchase at the Distillery on our pick-up weekends!
URL:https://tenmiledistillery.com/upcoming-event/time-to-purchase-your-whisky-allocation/
ATTACH;FMTTYPE=image/jpeg:https://tenmiledistillery.com/wp-content/uploads/2024/03/event-allocation-email-resized.jpg
END:VEVENT
BEGIN:VEVENT
DTSTART;TZID=America/New_York:20240413T120000
DTEND;TZID=America/New_York:20240413T200000
DTSTAMP:20260422T193625
CREATED:20240111T173322Z
LAST-MODIFIED:20240327T160539Z
UID:10000065-1713009600-1713038400@tenmiledistillery.com
SUMMARY:Mommò Pizza
DESCRIPTION:Menu\nBruschetta\nTris di Bruschetta\nChopped tomatoes\, basil\, garlic\, Italian oregano\, evoo\n-Stracciatella\, grilled zucchini\, evo\n-Melted gouda\, caramelized leeks\n$12 \nPizza\nMargherita\nTomato sauce\, mozzarella\, basil\, evoo\n$14 \nMarinara\nTomato sauce\, fresh garlic\, basil\, evoo\n$12 \nPepperoni\nTomato sauce\, mozzarella\, & pepperoni\n$15 \nDiavola\nTomato sauce\, mozzarella\, Calabrian soppressata\, Calabrian chili\n$15 \nRucola\nTomato sauce\, mozzarella\, fresh arugula\, evoo\n$15 \nSalsiccia\nTomato sauce\, mozzarella\, Italian sausage\n$15 \nFunghi\nTomato sauce\, mozzarella\, sautéed mushrooms\n$15 \nThe Scranton\nMozzarella\, fontina\, onion\, fresh rosemary\, evoo\n$15 \nQuattro Formaggi\nMozzarella\, fontina\, gorgonzola\, taleggio with or without hot honey\n$16
URL:https://tenmiledistillery.com/upcoming-event/mommo-pizza-in-the-orchard/2024-04-13/
ATTACH;FMTTYPE=image/jpeg:https://tenmiledistillery.com/wp-content/uploads/2024/01/the-scranton-mommo-resized.jpg
END:VEVENT
END:VCALENDAR